BEGIN:VCALENDAR
VERSION:2.0
PRODID:-//Township Rugby - ECPv6.15.20//NONSGML v1.0//EN
CALSCALE:GREGORIAN
METHOD:PUBLISH
X-ORIGINAL-URL:https://twprugby.com
X-WR-CALDESC:Events for Township Rugby
REFRESH-INTERVAL;VALUE=DURATION:PT1H
X-Robots-Tag:noindex
X-PUBLISHED-TTL:PT1H
BEGIN:VTIMEZONE
TZID:UTC
BEGIN:STANDARD
TZOFFSETFROM:+0000
TZOFFSETTO:+0000
TZNAME:UTC
DTSTART:20210101T000000
END:STANDARD
END:VTIMEZONE
BEGIN:VEVENT
DTSTART;TZID=UTC:20220923T120000
DTEND;TZID=UTC:20220923T170000
DTSTAMP:20260424T154602
CREATED:20220527T175842Z
LAST-MODIFIED:20220527T180244Z
UID:1664-1663934400-1663952400@twprugby.com
SUMMARY:36th Annual South Jersey Duffers Scramble
DESCRIPTION:
URL:https://twprugby.com/event/36th-annual-south-jersey-duffers-scramble/
CATEGORIES:Event
ATTACH;FMTTYPE=application/pdf:https://twprugby.com/wp-content/uploads/2022/05/SJ-golf.pdf
END:VEVENT
BEGIN:VEVENT
DTSTART;TZID=UTC:20220606T000000
DTEND;TZID=UTC:20220606T000000
DTSTAMP:20260424T154602
CREATED:20220527T113806Z
LAST-MODIFIED:20220601T135928Z
UID:1583-1654473600-1654473600@twprugby.com
SUMMARY:End of the year Pool Party
DESCRIPTION:Come celebrate the end of a great year with a pool party. Look for the remind announcement for the time and address.
URL:https://twprugby.com/event/end-of-the-year-pool-party/
LOCATION:Harris House\, 186 Pitman-Downer Road\, Sewell\, NJ\, 08080\, United States
CATEGORIES:Event
ATTACH;FMTTYPE=image/jpeg:https://twprugby.com/wp-content/uploads/2022/05/Swim.jpg
END:VEVENT
END:VCALENDAR